BEGIN:VCALENDAR
VERSION:2.0
PRODID:-//Bangor Public Health - ECPv6.15.20//NONSGML v1.0//EN
CALSCALE:GREGORIAN
METHOD:PUBLISH
X-WR-CALNAME:Bangor Public Health
X-ORIGINAL-URL:https://bangorpublichealth.org
X-WR-CALDESC:Events for Bangor Public Health
REFRESH-INTERVAL;VALUE=DURATION:PT1H
X-Robots-Tag:noindex
X-PUBLISHED-TTL:PT1H
BEGIN:VTIMEZONE
TZID:America/New_York
BEGIN:DAYLIGHT
TZOFFSETFROM:-0500
TZOFFSETTO:-0400
TZNAME:EDT
DTSTART:20250309T070000
END:DAYLIGHT
BEGIN:STANDARD
TZOFFSETFROM:-0400
TZOFFSETTO:-0500
TZNAME:EST
DTSTART:20251102T060000
END:STANDARD
BEGIN:DAYLIGHT
TZOFFSETFROM:-0500
TZOFFSETTO:-0400
TZNAME:EDT
DTSTART:20260308T070000
END:DAYLIGHT
BEGIN:STANDARD
TZOFFSETFROM:-0400
TZOFFSETTO:-0500
TZNAME:EST
DTSTART:20261101T060000
END:STANDARD
BEGIN:DAYLIGHT
TZOFFSETFROM:-0500
TZOFFSETTO:-0400
TZNAME:EDT
DTSTART:20270314T070000
END:DAYLIGHT
BEGIN:STANDARD
TZOFFSETFROM:-0400
TZOFFSETTO:-0500
TZNAME:EST
DTSTART:20271107T060000
END:STANDARD
END:VTIMEZONE
BEGIN:VEVENT
DTSTART;TZID=America/New_York:20260227T120000
DTEND;TZID=America/New_York:20260227T140000
DTSTAMP:20260424T151834
CREATED:20260127T175642Z
LAST-MODIFIED:20260127T180833Z
UID:3997-1772193600-1772200800@bangorpublichealth.org
SUMMARY:CPR- Friends and Families
DESCRIPTION:Free for the community\, located at Milk & Cookies Support group: \nFamily & Friends CPR is for people who want to learn CPR but do not need a CPR course completion card to meet a job requirement. This course is ideal for community groups\, new parents\, grandparents\, babysitters\, and others interested in learning how to save a life. This class is interactive and engaging\, and participants will have the opportunity to practice hands on skills such as compressions\, choking relief airway support\, use of an AED\, and first aid if desired. Skills are taught in a dynamic group environment using the AHA’s research-proven practice-while-watching technique\, which provides students with the most hands-on CPR practice time possible. After the course participants will walk away with resources\, real-world skills\, and a course participation certificate.
URL:https://bangorpublichealth.org/calendar/cpr-friends-and-families/
LOCATION:Bangor Public Library- Milk and Cookies Support Group 3rd floor\, 145 Harlow Street\, Bangor\, ME\, 04401\, United States
CATEGORIES:CPR
END:VEVENT
BEGIN:VEVENT
DTSTART;TZID=America/New_York:20260310T160000
DTEND;TZID=America/New_York:20260331T170000
DTSTAMP:20260424T151834
CREATED:20260122T221403Z
LAST-MODIFIED:20260127T180903Z
UID:3982-1773158400-1774976400@bangorpublichealth.org
SUMMARY:ROSE Class
DESCRIPTION:See our page on the ROSE program for more information: https://bangorpublichealth.org/lactation-services/rose-program/
URL:https://bangorpublichealth.org/calendar/rose-class/
LOCATION:Bangor Public Health and Community Services\, 103 Texas Avenue\, Bangor\, 04401\, United States
END:VEVENT
BEGIN:VEVENT
DTSTART;TZID=America/New_York:20260602T160000
DTEND;TZID=America/New_York:20260623T170000
DTSTAMP:20260424T151834
CREATED:20260324T152358Z
LAST-MODIFIED:20260324T152358Z
UID:4062-1780416000-1782234000@bangorpublichealth.org
SUMMARY:ROSE class
DESCRIPTION:See our page on the ROSE program for more information: https://bangorpublichealth.org/lactation-services/rose-program
URL:https://bangorpublichealth.org/calendar/rose-class-2/
CATEGORIES:ROSE
END:VEVENT
END:VCALENDAR